BEGIN:VCALENDAR
VERSION:2.0
PRODID:-//winetourer - ECPv6.15.20//NONSGML v1.0//EN
CALSCALE:GREGORIAN
METHOD:PUBLISH
X-WR-CALNAME:winetourer
X-ORIGINAL-URL:https://winetourer.com
X-WR-CALDESC:Eventi per winetourer
REFRESH-INTERVAL;VALUE=DURATION:PT1H
X-Robots-Tag:noindex
X-PUBLISHED-TTL:PT1H
BEGIN:VTIMEZONE
TZID:UTC
BEGIN:STANDARD
TZOFFSETFROM:+0000
TZOFFSETTO:+0000
TZNAME:UTC
DTSTART:20250101T000000
END:STANDARD
END:VTIMEZONE
BEGIN:VEVENT
DTSTART;VALUE=DATE:20260411
DTEND;VALUE=DATE:20260413
DTSTAMP:20260424T224440
CREATED:20251128T101443Z
LAST-MODIFIED:20251128T101711Z
UID:6434-1775865600-1776038399@winetourer.com
SUMMARY:WE ARE SUMMA
DESCRIPTION:WE ARE SUMMA \nDa oltre 25 anni\, la Cantina Alois Lageder trasforma il paese di Magrè\, in Alto Adige\, in un luogo d’incontro per la comunità vinicola internazionale. SUMMA è più di una fiera. È un luogo dove le persone si incontrano\, condividono esperienze e sviluppano nuove idee. \nCantine da tutto il mondo\, sommelier\, ristoratori e amanti del vino si riuniscono qui per celebrare la qualità\, l’agricoltura sostenibile e la curiosità per la sperimentazione. In una cornice storica\, si degustano vini\, si condividono storie e si creano legami. \nSUMMA unisce vino\, ispirazione e comunità. \nIl programma collaterale di SUMMA offre l’opportunità di approfondire la conoscenza e partecipare a degustazioni esclusive\, masterclass e visite guidate condotte da enologi e rinomati esperti del settore. \n→ Sabato 11 aprile 2026   10:00 – 18:00\n→ Domenica 12 aprile 2026    10:00 – 17:00 \nIscrizione e pagamento anticipato disponibili online da marzo 2026.\nIl numero di partecipanti è limitato.
URL:https://winetourer.com/event/we-are-summa-2/
LOCATION:Tenuta Alois Lageder Casòn Hirschprunn & Tòr Löwengang I\, Magrè\, Bolzano\, 39040\, Italy
CATEGORIES:Degustazione
ATTACH;FMTTYPE=image/jpeg:https://winetourer.com/wine31/wp-content/uploads/2025/11/summa.jpg
ORGANIZER;CN="Alois Lageder":MAILTO:info@aloislageder.eu
END:VEVENT
END:VCALENDAR