BEGIN:VCALENDAR
VERSION:2.0
PRODID:-//winetourer - ECPv6.15.20//NONSGML v1.0//EN
CALSCALE:GREGORIAN
METHOD:PUBLISH
X-WR-CALNAME:winetourer
X-ORIGINAL-URL:https://winetourer.com
X-WR-CALDESC:Eventi per winetourer
REFRESH-INTERVAL;VALUE=DURATION:PT1H
X-Robots-Tag:noindex
X-PUBLISHED-TTL:PT1H
BEGIN:VTIMEZONE
TZID:UTC
BEGIN:STANDARD
TZOFFSETFROM:+0000
TZOFFSETTO:+0000
TZNAME:UTC
DTSTART:20250101T000000
END:STANDARD
END:VTIMEZONE
BEGIN:VEVENT
DTSTART;VALUE=DATE:20260420
DTEND;VALUE=DATE:20260424
DTSTAMP:20260424T205509
CREATED:20251128T102858Z
LAST-MODIFIED:20251128T102858Z
UID:6436-1776643200-1776988799@winetourer.com
SUMMARY:UGCB Bordeaux En Primeur Week
DESCRIPTION:UGCB Bordeaux En Primeur Week \nInvitiamo tutti i professionisti del vino a unirsi a noi dal 20 al 23 aprile per l’En Primeur Week 2026. \n  \nLunedì 20 aprile 2026 \nPresentazione dell’annata agli operatori del settore e alla stampa \n3 fasce orarie: 9:00 – 11:30 // 11:30 – 14:00 // 14:00 – 16:30 \nHangar 14: 173 Quai des Chartrons\, 33000 Bordeaux  \nMartedì 21\, mercoledì 22 e giovedì 23 aprile 2026 \nPresentazione dell’annata agli operatori del settore e alla stampa \nDegustazioni “in piedi”\, per denominazione\, nei castelli ospitanti e pranzi (tranne il giovedì). \nCastello Beauregard – Pomerol \nChâteau Valandraud – Saint-Émilion Grand Cru \nDomaine de Chevalier – Pessac-Léognan e Graves\, Sauternes e Barsac \nChâteau Cantemerle – Margaux\, Haut-Médoc Sud \nCastello Léoville Barton – Saint-Julien\, Moulis-en-Médoc e Listrac-Médoc \nChâteau Lynch-Bages – Pauillac\, Saint-Estèphe\, Haut-Médoc settentrionale e Médoc \nDegustazione su prenotazione riservata agli operatori del settore e alla stampa.
URL:https://winetourer.com/event/ugcb-bordeaux-en-primeur-week/
LOCATION:Bordeaux
CATEGORIES:Degustazione,Fair
ATTACH;FMTTYPE=image/jpeg:https://winetourer.com/wine31/wp-content/uploads/2025/11/bordeaux.jpg
ORGANIZER;CN="Union grands Crus":MAILTO:contact@ugcb.net
END:VEVENT
END:VCALENDAR