BEGIN:VCALENDAR
VERSION:2.0
PRODID:-//winetourer - ECPv6.15.20//NONSGML v1.0//EN
CALSCALE:GREGORIAN
METHOD:PUBLISH
X-WR-CALNAME:winetourer
X-ORIGINAL-URL:https://winetourer.com
X-WR-CALDESC:Events for winetourer
REFRESH-INTERVAL;VALUE=DURATION:PT1H
X-Robots-Tag:noindex
X-PUBLISHED-TTL:PT1H
BEGIN:VTIMEZONE
TZID:UTC
BEGIN:STANDARD
TZOFFSETFROM:+0000
TZOFFSETTO:+0000
TZNAME:UTC
DTSTART:20250101T000000
END:STANDARD
END:VTIMEZONE
BEGIN:VEVENT
DTSTART;VALUE=DATE:20260420
DTEND;VALUE=DATE:20260421
DTSTAMP:20260424T161909
CREATED:20260420T161132Z
LAST-MODIFIED:20260420T161734Z
UID:6761-1776643200-1776729599@winetourer.com
SUMMARY:Compare Orso
DESCRIPTION:  \n\n\nDegustazione di vini nel Monferrato Astigiano\n▪︎  Calice di benvenuto con nocciole di LanghePer iniziare l’esperienza in modo informale e accogliente\, con un primo assaggio che introduce al territorio e ai suoi sapori. \n▪︎  Degustazione di 4 vini a vostra sceltaUn momento guidato alla scoperta delle nostre etichette\, per confrontare profumi\, stili e caratteri diversi secondo i vostri gusti. \n\n\n\n▪︎  Tagliere di prodotti locali \nUna selezione di eccellenze del territorio\, pensata per accompagnare e valorizzare i vini in degustazione. \n▪︎  Coppa di Moscato d’Asti con piccola pasticceriaUna conclusione dolce e profumata\, perfetta per chiudere la degustazione con leggerezza ed equilibrio. \n  \n  \n\nLa degustazione è disponibile anche in formula regalo\, ideale per sorprendere con un’esperienza autentica nelle Langhe. \n* Le visite guidate in vigneto e in cantina sono sempre disponibili compatibilmente con la stagione climatica e lavorativa.
URL:https://winetourer.com/event/compare-orso/
LOCATION:Cascina Comina\, Via Boscodonne 7\, Calosso\, AT\, 14052\, Italy
CATEGORIES:Feast - Party,Tasting
ATTACH;FMTTYPE=image/jpeg:https://winetourer.com/wine31/wp-content/uploads/2026/04/festa-mamma.jpg
ORGANIZER;CN="Cascina Comina Vini":MAILTO:info@cascinacominawine.com
END:VEVENT
END:VCALENDAR